BEGIN:VCALENDAR
VERSION:2.0
PRODID:-//ChamberMaster//Event Calendar 2.0//EN
METHOD:PUBLISH
X-PUBLISHED-TTL:P3D
REFRESH-INTERVAL:P3D
CALSCALE:GREGORIAN
BEGIN:VEVENT
DTSTART:20240928T130000Z
DTEND:20240928T160000Z
X-MICROSOFT-CDO-ALLDAYEVENT:FALSE
SUMMARY:Walk To End Alzheimer's
DESCRIPTION:The Walk To End Alzheimer's is the largest fundraiser of the Alzheimer's Association\, which is the largest funder of a cure for Alzheimer's This event is open to everyone and is a time to honor loved ones we've lost to this terrible disease and support those who are currently living with Alzheimer's as well as their caregivers.
X-ALT-DESC;FMTTYPE=text/html:The Walk To End Alzheimer&#39\;s is the largest fundraiser of the Alzheimer&#39\;s Association\, which is the largest funder of a cure for Alzheimer&#39\;s This event is open to everyone and is a time to honor loved ones we&#39\;ve lost to this terrible disease and support those who are currently living with Alzheimer&#39\;s as well as their caregivers.
LOCATION:Downtown Monroe Rivermarket
UID:e.1999.1063
SEQUENCE:3
DTSTAMP:20260424T193347Z
URL:https://members.monroe.org/events/details/walk-to-end-alzheimer-s-1063
END:VEVENT

END:VCALENDAR
