BEGIN:VCALENDAR
VERSION:2.0
PRODID:-//ChamberMaster//Event Calendar 2.0//EN
METHOD:PUBLISH
X-PUBLISHED-TTL:P3D
REFRESH-INTERVAL:P3D
CALSCALE:GREGORIAN
BEGIN:VEVENT
DTSTART:20230530T180000Z
DTEND:20230530T190000Z
X-MICROSOFT-CDO-ALLDAYEVENT:FALSE
SUMMARY:Trenton Bend Subd RC
DESCRIPTION:Trenton Bend subdivision RC
X-ALT-DESC;FMTTYPE=text/html:<strong><span style="font-size:22px\;">Trenton Bend subdivision RC</span></strong>
LOCATION:
UID:e.1999.723
SEQUENCE:3
DTSTAMP:20260426T002725Z
URL:https://members.monroe.org/events/details/trenton-bend-subd-rc-723
END:VEVENT

END:VCALENDAR
