BEGIN:VCALENDAR
VERSION:2.0
PRODID:-//ChamberMaster//Event Calendar 2.0//EN
METHOD:PUBLISH
X-PUBLISHED-TTL:P3D
REFRESH-INTERVAL:P3D
CALSCALE:GREGORIAN
BEGIN:VEVENT
DTSTART:20240912T190000Z
DTEND:20240912T200000Z
X-MICROSOFT-CDO-ALLDAYEVENT:FALSE
SUMMARY:TNT Stem Cell Ribbon Cutting & Open House
DESCRIPTION:Join the Monroe Chamber of Commerce and the Traxler family for a ribbon cutting celebration at TNT Stem Cell\, followed by an Open House!  There will be a meet & greet and a Q & A\, hors d'oeuvres and drinks along with a raffle.  TNT Stem Cell has taken off like a firework in the night since its inception in 2023 offering a growing number of regenerative therapies for patients.
X-ALT-DESC;FMTTYPE=text/html:Join the Monroe Chamber of Commerce and the Traxler family for a ribbon cutting celebration at TNT Stem Cell\, followed by an Open House!&nbsp\; There will be a meet &amp\; greet and a Q &amp\; A\, hors d&#39\;oeuvres and drinks along with a raffle.&nbsp\; TNT Stem Cell has taken off like a firework in the night since its inception in 2023 offering a growing number of regenerative therapies for patients.
LOCATION:506 North 31st Street\, Monroe LA 71201
UID:e.1999.1126
SEQUENCE:3
DTSTAMP:20260424T193433Z
URL:https://members.monroe.org/events/details/tnt-stem-cell-ribbon-cutting-open-house-1126
END:VEVENT

END:VCALENDAR
