BEGIN:VCALENDAR
VERSION:2.0
PRODID:-//ChamberMaster//Event Calendar 2.0//EN
METHOD:PUBLISH
X-PUBLISHED-TTL:P3D
REFRESH-INTERVAL:P3D
CALSCALE:GREGORIAN
BEGIN:VEVENT
DTSTART:20230815T163000Z
DTEND:20230815T180000Z
X-MICROSOFT-CDO-ALLDAYEVENT:FALSE
SUMMARY:State of the State with Governor Edwards 2023
DESCRIPTION:State of the State Luncheon with\n\nGovernor John Bel Edwards
X-ALT-DESC;FMTTYPE=text/html:<span style="font-size: 22px\;"><b>State of the State Luncheon with<br />\nGovernor John Bel Edwards</b></span>&nbsp\;&nbsp\;&nbsp\;&nbsp\;
LOCATION:ULM Bayou Pointe Event Center 100 Warhawk Way
UID:e.1999.745
SEQUENCE:3
DTSTAMP:20260425T192754Z
URL:https://members.monroe.org/events/details/state-of-the-state-with-governor-edwards-2023-745
END:VEVENT

END:VCALENDAR
