BEGIN:VCALENDAR
VERSION:2.0
PRODID:-//ChamberMaster//Event Calendar 2.0//EN
METHOD:PUBLISH
X-PUBLISHED-TTL:P3D
REFRESH-INTERVAL:P3D
CALSCALE:GREGORIAN
BEGIN:VEVENT
DTSTART:20260501T210000Z
DTEND:20260502T000000Z
X-MICROSOFT-CDO-ALLDAYEVENT:FALSE
SUMMARY:Spring into Summer Tasting
DESCRIPTION:Join us for a seasonal tasting! This will be slam packed with tons of fun\, new things to try. We will have 8+ vendors with tons of different products\, Silver Spoon food truck & Black Bear Books. See you there!!!
X-ALT-DESC;FMTTYPE=text/html:Join us for a seasonal tasting! This will be slam packed with tons of fun\, new things to try. We will have 8+ vendors with tons of different products\, Silver Spoon food truck &amp\; Black Bear Books. See you there!!!
LOCATION:Beef & Barrel
UID:e.1999.2064
SEQUENCE:3
DTSTAMP:20260423T182318Z
URL:https://members.monroe.org/events/details/spring-into-summer-tasting-2064
END:VEVENT

END:VCALENDAR
