BEGIN:VCALENDAR
VERSION:2.0
PRODID:-//ChamberMaster//Event Calendar 2.0//EN
METHOD:PUBLISH
X-PUBLISHED-TTL:P3D
REFRESH-INTERVAL:P3D
CALSCALE:GREGORIAN
BEGIN:VEVENT
DTSTART:20240912T150000Z
DTEND:20240912T160000Z
X-MICROSOFT-CDO-ALLDAYEVENT:FALSE
SUMMARY:Richwood High School Multi Purpose Bldg Ribbon Cutting RAIN OR SHINE
DESCRIPTION:I realize it's late notice\, but the ribbon cutting is on!  Join the Ouachita Parish School Board\, the Richwood Business Alliance and the Monroe Chamber of Commerce as we cut the ribbon on the new Richwood High School Multi-Purpose buildings and covered walkways!  Meet us at 10 AM at the front entrance of Richwood High School.
X-ALT-DESC;FMTTYPE=text/html:I realize it&rsquo\;s late notice\, but the ribbon cutting is on!&nbsp\; Join the Ouachita Parish School Board\, the Richwood Business Alliance and the Monroe Chamber of Commerce as we cut the ribbon on the new Richwood High School Multi-Purpose buildings and covered walkways!&nbsp\; Meet us at 10 AM at the front entrance of Richwood High School.
LOCATION:5901 Highway 165 Bypass\, Monroe\, LA 71202
UID:e.1999.1150
SEQUENCE:3
DTSTAMP:20260424T195605Z
URL:https://members.monroe.org/events/details/richwood-high-school-multi-purpose-bldg-ribbon-cutting-rain-or-shine-1150
END:VEVENT

END:VCALENDAR
