BEGIN:VCALENDAR
VERSION:2.0
PRODID:-//ChamberMaster//Event Calendar 2.0//EN
METHOD:PUBLISH
X-PUBLISHED-TTL:P3D
REFRESH-INTERVAL:P3D
CALSCALE:GREGORIAN
BEGIN:VEVENT
DTSTART:20240917T150000Z
DTEND:20240917T150000Z
X-MICROSOFT-CDO-ALLDAYEVENT:FALSE
SUMMARY:Richwood Coffee and Conversations September 2024
DESCRIPTION:Please join us for the Richwood Coffee and Conversations
X-ALT-DESC;FMTTYPE=text/html:Please join us for the Richwood Coffee and Conversations
LOCATION:Richwood Town Hall 2710 Martin Luther King Drive Richwood\, LA
UID:e.1999.1108
SEQUENCE:3
DTSTAMP:20260424T193439Z
URL:https://members.monroe.org/events/details/richwood-coffee-and-conversations-september-2024-1108
END:VEVENT

END:VCALENDAR
