BEGIN:VCALENDAR
VERSION:2.0
PRODID:-//ChamberMaster//Event Calendar 2.0//EN
METHOD:PUBLISH
X-PUBLISHED-TTL:P3D
REFRESH-INTERVAL:P3D
CALSCALE:GREGORIAN
BEGIN:VEVENT
DTSTART:20230505T200000Z
DTEND:20230507T200000Z
X-MICROSOFT-CDO-ALLDAYEVENT:FALSE
SUMMARY:RED WHITE AND BLUE AIRSHOW
DESCRIPTION:Red\, White and Blue Airshow named the "Best New Event" in Louisiana Life Magazine is coming back for 2023! What an exciting announcement for our area! We would love for you to be involved in what will be the biggest event of 2023 in the Twin Cities! Mark your calendars for May 5th\, 6th\, and 7th\, 2023. The Red\, White\, and Blue Airshow: Saluting America's Heroes will be an amazing display of aeronautics from all over the country that will attract people of all ages. With some new amazing acts coming in and some of your favorite acts returning we are excited for this amazing show! General Claire L. Chennault and Southern Heritage Air Foundations support our veterans in numerous ways. Every day is a great time to celebrate veterans' history\, which is deeply rooted in the area by these foundations. What better way to celebrate that history than 3 days of Airshow Bliss! This will be a fabulous show\, creating a wealth of opportunity to showcase your company in a spectacularly patriotic mission. The 2023 airshow proceeds will support veteran's programs through these military foundations in our area. This packet includes the information and perks of being a sponsor for this great event.
X-ALT-DESC;FMTTYPE=text/html:Red\, White and Blue Airshow named the &ldquo\;Best New Event&rdquo\; in Louisiana Life Magazine is coming back for 2023! What an exciting announcement for our area! We would love for you to be involved in what will be the biggest event of 2023 in the Twin Cities! Mark your calendars for May 5th\, 6th\, and 7th\, 2023. The Red\, White\, and Blue Airshow: Saluting America&rsquo\;s Heroes will be an amazing display of aeronautics from all over the country that will attract people of all ages. With some new amazing acts coming in and some of your favorite acts returning we are excited for this amazing show! General Claire L. Chennault and Southern Heritage Air Foundations support our veterans in numerous ways. Every day is a great time to celebrate veterans&rsquo\; history\, which is deeply rooted in the area by these foundations. What better way to celebrate that history than 3 days of Airshow Bliss! This will be a fabulous show\, creating a wealth of opportunity to showcase your company in a spectacularly patriotic mission. The 2023 airshow proceeds will support veteran&rsquo\;s programs through these military foundations in our area. This packet includes the information and perks of being a sponsor for this great event.
LOCATION:MONROE REGIONAL AIRPORT
UID:e.1999.593
SEQUENCE:3
DTSTAMP:20260426T003706Z
URL:https://members.monroe.org/events/details/red-white-and-blue-airshow-05-05-2023-593
END:VEVENT

END:VCALENDAR
