BEGIN:VCALENDAR
VERSION:2.0
PRODID:-//ChamberMaster//Event Calendar 2.0//EN
METHOD:PUBLISH
X-PUBLISHED-TTL:P3D
REFRESH-INTERVAL:P3D
CALSCALE:GREGORIAN
BEGIN:VEVENT
DTSTART:20240917T164500Z
DTEND:20240917T180000Z
X-MICROSOFT-CDO-ALLDAYEVENT:FALSE
SUMMARY:POSTPONED** Sterlington Business Alliance Luncheon
DESCRIPTION:Join the Sterlington Business Alliance\, the Town of Sterlington and the Monroe Chamber of Commerce for a free luncheon learning about hiring\, firing and HR Q&A.
X-ALT-DESC;FMTTYPE=text/html:Join the Sterlington Business Alliance\, the Town of Sterlington and the Monroe Chamber of Commerce for a free luncheon learning about hiring\, firing and HR Q&amp\;A.
LOCATION:Sterlington Town Hall\, 502 Highway 2 in Sterlington\, across from Advancion
UID:e.1999.1153
SEQUENCE:3
DTSTAMP:20260424T193747Z
URL:https://members.monroe.org/events/details/postponed-sterlington-business-alliance-luncheon-1153
END:VEVENT

END:VCALENDAR
