BEGIN:VCALENDAR
VERSION:2.0
PRODID:-//ChamberMaster//Event Calendar 2.0//EN
METHOD:PUBLISH
X-PUBLISHED-TTL:P3D
REFRESH-INTERVAL:P3D
CALSCALE:GREGORIAN
BEGIN:VEVENT
DTSTART:20240912T213000Z
DTEND:20240912T223000Z
X-MICROSOFT-CDO-ALLDAYEVENT:FALSE
SUMMARY:**POSTPONED due to weather**Maven Scouts Ribbon Cutting
DESCRIPTION:Join Maven Scouts\, The Monroe Chamber of Commerce\, and Grant Rogers as we cut the ribbon on this exciting new venture in Monroe!  To find out more details about Maven Scouts\, check out this website:  Home | Maven Scouts
X-ALT-DESC;FMTTYPE=text/html:Join Maven Scouts\, The Monroe Chamber of Commerce\, and Grant Rogers as we cut the ribbon on this exciting new venture in Monroe!&nbsp\; To find out more details about Maven Scouts\, check out this website:&nbsp\;&nbsp\;<a href="https://www.mavenscouts.com/">Home | Maven Scouts</a>
LOCATION:The Louisiana Small Business Development Center
UID:e.1999.1135
SEQUENCE:3
DTSTAMP:20260424T194409Z
URL:https://members.monroe.org/events/details/postponed-due-to-weather-maven-scouts-ribbon-cutting-1135
END:VEVENT

END:VCALENDAR
