BEGIN:VCALENDAR
VERSION:2.0
PRODID:-//ChamberMaster//Event Calendar 2.0//EN
METHOD:PUBLISH
X-PUBLISHED-TTL:P3D
REFRESH-INTERVAL:P3D
CALSCALE:GREGORIAN
BEGIN:VEVENT
DTSTART:20230819T210000Z
DTEND:20230819T230000Z
X-MICROSOFT-CDO-ALLDAYEVENT:FALSE
SUMMARY:Paint Pouring Party at DIY Joyful Creations- Aug. 19 at 4 pm
DESCRIPTION:Paint Pouring or Fluid art is a fun and popular abstract painting technique that uses free flowing or very runny acrylics to create unique art pieces.  It is great for all ages!
X-ALT-DESC;FMTTYPE=text/html:<span style="color:rgb(32\, 33\, 36)\; font-family:google sans\,roboto\,arial\,sans-serif\; font-size:20px">Paint Pouring or Fluid art is a fun and popular abstract painting technique that uses free flowing or very runny acrylics to create unique art pieces.&nbsp\; It is great for all ages!</span>
LOCATION:2221 Louisville Ave. (by the Piccadilly) Monroe\, LA 71202
UID:e.1999.768
SEQUENCE:3
DTSTAMP:20260425T194304Z
URL:https://members.monroe.org/events/details/paint-pouring-party-at-diy-joyful-creations-aug-19-at-4-pm-768
END:VEVENT

END:VCALENDAR
