BEGIN:VCALENDAR
VERSION:2.0
PRODID:-//ChamberMaster//Event Calendar 2.0//EN
METHOD:PUBLISH
X-PUBLISHED-TTL:P3D
REFRESH-INTERVAL:P3D
CALSCALE:GREGORIAN
BEGIN:VEVENT
DTSTART:20230822T213000Z
DTEND:20230822T220000Z
X-MICROSOFT-CDO-ALLDAYEVENT:FALSE
SUMMARY:Open House and 10 Year Agency Anniversary Jennifer Zimmerman
DESCRIPTION:It's an Open House and 10 year Anniversary Celebration for Jennifer Zimmerman!  Speakers and Inspirational reveal begin at 4:30 PM Sharp.
X-ALT-DESC;FMTTYPE=text/html:It&#39\;s an Open House and 10 year Anniversary Celebration for Jennifer Zimmerman!&nbsp\; Speakers and Inspirational reveal begin at 4:30 PM Sharp.&nbsp\;&nbsp\;
LOCATION:4-6 PM at 506 Wood Street\, West Monroe\, LA 71291.
UID:e.1999.780
SEQUENCE:3
DTSTAMP:20260425T193429Z
URL:https://members.monroe.org/events/details/open-house-and-10-year-agency-anniversary-jennifer-zimmerman-780
END:VEVENT

END:VCALENDAR
