BEGIN:VCALENDAR
VERSION:2.0
PRODID:-//ChamberMaster//Event Calendar 2.0//EN
METHOD:PUBLISH
X-PUBLISHED-TTL:P3D
REFRESH-INTERVAL:P3D
CALSCALE:GREGORIAN
BEGIN:VEVENT
DTSTART:20240111T193000Z
DTEND:20240111T200000Z
X-MICROSOFT-CDO-ALLDAYEVENT:FALSE
SUMMARY:North 6th Street Improvements Groundbreaking
DESCRIPTION:(Monroe\, LA) - Mayor Friday Ellis and the City of Monroe are excited to announce the groundbreaking ceremony for the N 6th Street Improvements Project on January 11\, 2024\, at 1:30 PM. The event will take place at 607 N 6th St\, near the corner of N 6th St and Arkansas Rd.\n\n \n\nThe N 6th Street Improvements Project is part of the City's ongoing commitment to maintaining and upgrading City roads. This project will be focused on North 6th Street from Louisville Avenue to Stubbs Avenue. Key aspects of the project include patching\, milling\, overlaying with asphalt pavement\, and the installation of new pavement striping. Additionally\, curb\, gutter\, and drainage improvements will be assessed and integrated into the construction plans. Funding for the N 6th Street Improvements is made possible through the City's Capital Infrastructure Program.
X-ALT-DESC;FMTTYPE=text/html:<span style="font-family:montserrat\;">(Monroe\, LA) - Mayor Friday Ellis and the City of Monroe are excited to announce the groundbreaking ceremony for the N 6th Street Improvements Project on <strong>January 11\, 2024\, at 1:30 PM</strong>. The event will take place at <strong>607 N 6th St</strong>\, near the corner of N 6th St and Arkansas Rd.</span><br />\n&nbsp\;<br />\n<span style="font-family:montserrat\;">The N 6th Street Improvements Project is part of the City&#39\;s ongoing commitment to maintaining and upgrading City roads. This project will be focused on North 6th Street from Louisville Avenue to Stubbs Avenue. Key aspects of the project include patching\, milling\, overlaying with asphalt pavement\, and the installation of new pavement striping. Additionally\, curb\, gutter\, and drainage improvements will be assessed and integrated into the construction plans. Funding for the N 6th Street Improvements is made possible through the City&#39\;s Capital Infrastructure Program.</span>
LOCATION:607 North 6th Street\, Monroe\, LA 71201
UID:e.1999.903
SEQUENCE:3
DTSTAMP:20260425T104708Z
URL:https://members.monroe.org/events/details/north-6th-street-improvements-groundbreaking-903
END:VEVENT

END:VCALENDAR
