BEGIN:VCALENDAR
VERSION:2.0
PRODID:-//ChamberMaster//Event Calendar 2.0//EN
METHOD:PUBLISH
X-PUBLISHED-TTL:P3D
REFRESH-INTERVAL:P3D
CALSCALE:GREGORIAN
BEGIN:VEVENT
DTSTART:20231114T160000Z
DTEND:20231114T170000Z
X-MICROSOFT-CDO-ALLDAYEVENT:FALSE
SUMMARY:Nerds To Go Ribbon Cutting
DESCRIPTION:It's a ribbon cutting for the new Nerds To Go in Monroe!  Nerds To go offers expert computer services and IT services you can count on.  Nerds To Go is a one stop technology solution for residents and businesses.
X-ALT-DESC;FMTTYPE=text/html:It&#39\;s a ribbon cutting for the new Nerds To Go in Monroe!&nbsp\; Nerds To go offers expert computer services and IT services you can count on.&nbsp\; Nerds To Go is a one stop technology solution for residents and businesses.
LOCATION:2332 Sterlington Road (Highway 165) Monroe\, LA 71203
UID:e.1999.844
SEQUENCE:3
DTSTAMP:20260425T141929Z
URL:https://members.monroe.org/events/details/nerds-to-go-ribbon-cutting-844
END:VEVENT

END:VCALENDAR
