BEGIN:VCALENDAR
VERSION:2.0
PRODID:-//ChamberMaster//Event Calendar 2.0//EN
METHOD:PUBLISH
X-PUBLISHED-TTL:P3D
REFRESH-INTERVAL:P3D
CALSCALE:GREGORIAN
BEGIN:VEVENT
DTSTART:20230915T150000Z
DTEND:20230915T190000Z
X-MICROSOFT-CDO-ALLDAYEVENT:FALSE
SUMMARY:NEDHSA Recovery Day Celebration
DESCRIPTION:NEDHSA will host a Recovery Day Celebration in Forsythe Park to celebrate and highlight that recovery is possible. This day will bring treatment providers and individuals in recovery together to celebrate and allow for open discourse in a non-clinical setting. The goal is to celebrate the gains made by those in recovery and highlight treatment providers and services offered through a message of hope and that long-term recovery is possible. Featured speakers will share lived experiences\, Narcan training\, health and wellness activities\, interactive games and crafts\, food\, and so much more throughout the day. F?or more information contact Kara Etienne (Opioid Use Disorder Prevention Manager): kara.etienne@la.gov
X-ALT-DESC;FMTTYPE=text/html:NEDHSA will host a Recovery Day Celebration in Forsythe Park to celebrate and highlight that recovery is possible. This day will bring treatment providers and individuals in recovery together to celebrate and allow for open discourse in a non-clinical setting. The goal is to celebrate the gains made by those in recovery and highlight treatment providers and services offered through a message of hope and that long-term recovery is possible. Featured speakers will share lived experiences\, Narcan training\, health and wellness activities\, interactive games and crafts\, food\, and so much more throughout the day. F?or more information contact Kara Etienne (Opioid Use Disorder Prevention Manager): kara.etienne@la.gov
LOCATION:Forsythe Park 2300 Sycamore St\, Monroe\, LA 71201
UID:e.1999.782
SEQUENCE:3
DTSTAMP:20260425T174848Z
URL:https://members.monroe.org/events/details/nedhsa-recovery-day-celebration-782
END:VEVENT

END:VCALENDAR
