BEGIN:VCALENDAR
VERSION:2.0
PRODID:-//ChamberMaster//Event Calendar 2.0//EN
METHOD:PUBLISH
X-PUBLISHED-TTL:P3D
REFRESH-INTERVAL:P3D
CALSCALE:GREGORIAN
BEGIN:VEVENT
DTSTART:20250115T000000Z
DTEND:20250115T010000Z
X-MICROSOFT-CDO-ALLDAYEVENT:FALSE
SUMMARY:Monroe City Council Meeting
DESCRIPTION:
X-ALT-DESC;FMTTYPE=text/html:
LOCATION:Council Chamber\, City Hall Building 400 Lea Joyner Memorial Expy Monroe\, LA 71201 United States
UID:e.1999.1261
SEQUENCE:3
DTSTAMP:20260422T014407Z
URL:https://members.monroe.org/events/details/monroe-city-council-meeting-1261
END:VEVENT

END:VCALENDAR
