BEGIN:VCALENDAR
VERSION:2.0
PRODID:-//ChamberMaster//Event Calendar 2.0//EN
METHOD:PUBLISH
X-PUBLISHED-TTL:P3D
REFRESH-INTERVAL:P3D
CALSCALE:GREGORIAN
BEGIN:VEVENT
DTSTART:20230803T213000Z
DTEND:20230803T223000Z
X-MICROSOFT-CDO-ALLDAYEVENT:FALSE
SUMMARY:Louisiana MOHS & Skin Surgery Center Ribbon Cutting
DESCRIPTION:It's a ribbon cutting celebration event for our new dermatologic surgery clinic!
X-ALT-DESC;FMTTYPE=text/html:It&#39\;s a ribbon cutting celebration event for our new dermatologic surgery clinic!&nbsp\;&nbsp\;
LOCATION:2408 Duval Drive\, Monroe\, LA 71201.
UID:e.1999.759
SEQUENCE:3
DTSTAMP:20260425T193725Z
URL:https://members.monroe.org/events/details/louisiana-mohs-skin-surgery-center-ribbon-cutting-759
END:VEVENT

END:VCALENDAR
