BEGIN:VCALENDAR
VERSION:2.0
PRODID:-//ChamberMaster//Event Calendar 2.0//EN
METHOD:PUBLISH
X-PUBLISHED-TTL:P3D
REFRESH-INTERVAL:P3D
CALSCALE:GREGORIAN
BEGIN:VEVENT
DTSTART:20240919T190000Z
DTEND:20240919T200000Z
X-MICROSOFT-CDO-ALLDAYEVENT:FALSE
SUMMARY:Louisiana Hospice & Palliative Care Ribbon Cutting
DESCRIPTION:Join Louisiana Hospice & Palliative and the Monroe Chamber of Commerce for an anniversary ribbon cutting and Open House!  Visit their new location\, meet the staff and tour the facility.
X-ALT-DESC;FMTTYPE=text/html:Join Louisiana Hospice &amp\; Palliative and the Monroe Chamber of Commerce for an anniversary ribbon cutting and Open House!&nbsp\; Visit their new location\, meet the staff and tour the facility.
LOCATION:1101 Hudson Lane\, Suite D\, Monroe\, LA 71201.
UID:e.1999.1131
SEQUENCE:3
DTSTAMP:20260424T193747Z
URL:https://members.monroe.org/events/details/louisiana-hospice-palliative-care-ribbon-cutting-1131
END:VEVENT

END:VCALENDAR
