BEGIN:VCALENDAR
VERSION:2.0
PRODID:-//ChamberMaster//Event Calendar 2.0//EN
METHOD:PUBLISH
X-PUBLISHED-TTL:P3D
REFRESH-INTERVAL:P3D
CALSCALE:GREGORIAN
BEGIN:VEVENT
DTSTART:20240229T220000Z
DTEND:20240301T000000Z
X-MICROSOFT-CDO-ALLDAYEVENT:FALSE
SUMMARY:Louisiana Eye & Laser Open House "Leap Into Lasik"
DESCRIPTION:Meet the new physicians in our "Leap Into Lasik" Open House.  Food\, refreshments\, door prizes and even a grand prize will be given away!\nDr. David L. Barnes\, Jr.\, MD will give the information for the Lasik Seminar portion and the open house is for the other new doctors!!  Dr. Nidhi Batra\, MD who is a Retina Specialist and Dr. Claire C. Beaird\, OD.\n\n\n\n There will be food and door prizes - with a grand prize of $500 off LASIK for one attendee!
X-ALT-DESC;FMTTYPE=text/html:Meet the new physicians in our &quot\;Leap Into Lasik&quot\; Open House.&nbsp\; Food\, refreshments\, door prizes and even a grand prize will be given away!\n<p class="xmsonormal">Dr. David L. Barnes\, Jr.\, MD will give the information for the Lasik Seminar portion and the open house is for the other new doctors!!&nbsp\; Dr. Nidhi Batra\, MD who is a Retina Specialist&nbsp\;and Dr. Claire C. Beaird\, OD.<o:p></o:p></p>\n\n<p class="xmsonormal"><o:p></o:p></p>\n\n<p class="xmsonormal">&nbsp\;There will be food and door prizes - with a grand prize of $500 off LASIK for one attendee!</p>\n\n<p class="xmsonormal"><o:p></o:p></p>\n\n<p class="xmsonormal">&nbsp\;<o:p></o:p></p>\n
LOCATION:1310 North 19th Street\, Monroe\, LA 71201
UID:e.1999.891
SEQUENCE:3
DTSTAMP:20260422T024442Z
URL:https://members.monroe.org/events/details/louisiana-eye-laser-open-house-leap-into-lasik-891
END:VEVENT

END:VCALENDAR
