BEGIN:VCALENDAR
VERSION:2.0
PRODID:-//ChamberMaster//Event Calendar 2.0//EN
METHOD:PUBLISH
X-PUBLISHED-TTL:P3D
REFRESH-INTERVAL:P3D
CALSCALE:GREGORIAN
BEGIN:VEVENT
DTSTART:20230727T150000Z
DTEND:20230727T160000Z
X-MICROSOFT-CDO-ALLDAYEVENT:FALSE
SUMMARY:LDCC Knights ESports Center Ribbon Cutting
DESCRIPTION:Ribbon Cutting for the new Knights Esports Center at LDCC.\,
X-ALT-DESC;FMTTYPE=text/html:Ribbon Cutting for the new Knights Esports Center at LDCC.\,
LOCATION:This ribbon cutting will be held at the new Knights Esports Center at the Monroe campus of LDCC in the student commons area.
UID:e.1999.758
SEQUENCE:3
DTSTAMP:20260425T210541Z
URL:https://members.monroe.org/events/details/ldcc-knights-esports-center-ribbon-cutting-758
END:VEVENT

END:VCALENDAR
