BEGIN:VCALENDAR
VERSION:2.0
PRODID:-//ChamberMaster//Event Calendar 2.0//EN
METHOD:PUBLISH
X-PUBLISHED-TTL:P3D
REFRESH-INTERVAL:P3D
CALSCALE:GREGORIAN
BEGIN:VEVENT
DTSTART:20230817T150000Z
DTEND:20230817T160000Z
X-MICROSOFT-CDO-ALLDAYEVENT:FALSE
SUMMARY:La. Delta CC Esports Ribbon Cutting
DESCRIPTION:It's the celebration grand opening and ribbon cutting of the all new Knights Esports Center at Louisiana Delta Community College!
X-ALT-DESC;FMTTYPE=text/html:It&#39\;s the celebration grand opening and ribbon cutting of the all new Knights Esports Center at Louisiana Delta Community College!
LOCATION:7500 Milhaven Road\, on the Monroe campus of Louisiana Delta Community College in the LDCC Student Commons area.
UID:e.1999.770
SEQUENCE:3
DTSTAMP:20260425T192719Z
URL:https://members.monroe.org/events/details/la-delta-cc-esports-ribbon-cutting-770
END:VEVENT

END:VCALENDAR
