BEGIN:VCALENDAR
VERSION:2.0
PRODID:-//ChamberMaster//Event Calendar 2.0//EN
METHOD:PUBLISH
X-PUBLISHED-TTL:P3D
REFRESH-INTERVAL:P3D
CALSCALE:GREGORIAN
BEGIN:VEVENT
DTSTART:20240110T174500Z
DTEND:20240110T190000Z
X-MICROSOFT-CDO-ALLDAYEVENT:FALSE
SUMMARY:January Ambassador Meeting @ULM
DESCRIPTION:It is our monthly Monroe Chamber Ambassador meeting and we will visit the ULM Athletic Department!  Ambassador Jenny Pankey is hosting this event and will introduce us to Athletic Director John Hartwell and the staff.  We will tour Malone Stadium\, and the entire facility. Also\, Josh Carroll will provide us an update of the "comfort teddy bears for law enforcement" project we will be focusing on.  We will meet in the skybox at 11:45\, lunch will be provided.
X-ALT-DESC;FMTTYPE=text/html:It is our monthly Monroe Chamber Ambassador meeting and we will visit the ULM Athletic Department!&nbsp\; Ambassador Jenny Pankey is hosting this event and will introduce us to Athletic Director John Hartwell and the staff.&nbsp\; We will tour Malone Stadium\, and the entire facility. Also\, Josh Carroll will provide us an update of the &quot\;comfort teddy bears for law enforcement&quot\; project we will be focusing on.&nbsp\; We will meet in the skybox at 11:45\, lunch will be provided.
LOCATION:Malone Stadium on the campus of the University of Louisiana at Monroe
UID:e.1999.870
SEQUENCE:3
DTSTAMP:20260425T110603Z
URL:https://members.monroe.org/events/details/january-ambassador-meeting-ulm-870
END:VEVENT

END:VCALENDAR
