BEGIN:VCALENDAR
VERSION:2.0
PRODID:-//ChamberMaster//Event Calendar 2.0//EN
METHOD:PUBLISH
X-PUBLISHED-TTL:P3D
REFRESH-INTERVAL:P3D
CALSCALE:GREGORIAN
BEGIN:VEVENT
DTSTART:20231129T200000Z
DTEND:20231129T210000Z
X-MICROSOFT-CDO-ALLDAYEVENT:FALSE
SUMMARY:I-20 Frontage Road Improvements Ribbon Cutting
DESCRIPTION:It's the completion of the I-20 Frontage Roads Improvement Project\, come celebrate!
X-ALT-DESC;FMTTYPE=text/html:It&#39\;s the completion of the I-20 Frontage Roads Improvement Project\, come celebrate!
LOCATION:The old Toys R Us parking lot
UID:e.1999.873
SEQUENCE:3
DTSTAMP:20260425T124454Z
URL:https://members.monroe.org/events/details/i-20-frontage-road-improvements-ribbon-cutting-873
END:VEVENT

END:VCALENDAR
