BEGIN:VCALENDAR
VERSION:2.0
PRODID:-//ChamberMaster//Event Calendar 2.0//EN
METHOD:PUBLISH
X-PUBLISHED-TTL:P3D
REFRESH-INTERVAL:P3D
CALSCALE:GREGORIAN
BEGIN:VEVENT
DTSTART:20240909T150000Z
DTEND:20240909T170000Z
X-MICROSOFT-CDO-ALLDAYEVENT:FALSE
SUMMARY:Graphic Packaging West Monroe's 100 Year Anniversary Celebration
DESCRIPTION:We would love for everyone to join us as we celebrate this huge milestone! Graphic Packaging employs 800 people and has been a substantial economic contributor for an entire century! We will have a brief presentation by community and GPI executives followed by a catered meet & greet.
X-ALT-DESC;FMTTYPE=text/html:We would love for everyone to join us as we celebrate this huge milestone! Graphic Packaging employs 800 people and has been a substantial economic contributor for an entire century! We will have a brief presentation by community and GPI executives followed by a catered meet &amp\; greet.
LOCATION:1000 Jonesboro Road West Monroe\, LA
UID:e.1999.1133
SEQUENCE:3
DTSTAMP:20260424T193645Z
URL:https://members.monroe.org/events/details/graphic-packaging-west-monroe-s-100-year-anniversary-celebration-1133
END:VEVENT

END:VCALENDAR
