BEGIN:VCALENDAR
VERSION:2.0
PRODID:-//ChamberMaster//Event Calendar 2.0//EN
METHOD:PUBLISH
X-PUBLISHED-TTL:P3D
REFRESH-INTERVAL:P3D
CALSCALE:GREGORIAN
BEGIN:VEVENT
DTSTART:20231121T173000Z
DTEND:20231121T183000Z
X-MICROSOFT-CDO-ALLDAYEVENT:FALSE
SUMMARY:Fleet Feet Monroe Ribbon Cutting
DESCRIPTION:Fleet Feet Monroe Grand re-opening and ribbon cutting!
X-ALT-DESC;FMTTYPE=text/html:Fleet Feet Monroe Grand re-opening and ribbon cutting!&nbsp\;&nbsp\;
LOCATION:1866 Forsythe Avenue in Monroe.
UID:e.1999.846
SEQUENCE:3
DTSTAMP:20260425T125126Z
URL:https://members.monroe.org/events/details/fleet-feet-monroe-ribbon-cutting-846
END:VEVENT

END:VCALENDAR
