BEGIN:VCALENDAR
VERSION:2.0
PRODID:-//ChamberMaster//Event Calendar 2.0//EN
METHOD:PUBLISH
X-PUBLISHED-TTL:P3D
REFRESH-INTERVAL:P3D
CALSCALE:GREGORIAN
BEGIN:VEVENT
DTSTART:20240509T220000Z
DTEND:20240509T230000Z
X-MICROSOFT-CDO-ALLDAYEVENT:FALSE
SUMMARY:Felicia's Hair with Flair Salon Ribbon Cutting
DESCRIPTION:Join us as we cut the ribbon celebrating Felicia's Hair with Flair Salon!
X-ALT-DESC;FMTTYPE=text/html:Join us as we cut the ribbon celebrating Felicia&#39\;s Hair with Flair Salon!
LOCATION:312 Cedarbrook Drive\, Monroe\, LA 71203
UID:e.1999.1012
SEQUENCE:3
DTSTAMP:20260424T035114Z
URL:https://members.monroe.org/events/details/felicia-s-hair-with-flair-salon-ribbon-cutting-1012
END:VEVENT

END:VCALENDAR
