BEGIN:VCALENDAR
VERSION:2.0
PRODID:-//ChamberMaster//Event Calendar 2.0//EN
METHOD:PUBLISH
X-PUBLISHED-TTL:P3D
REFRESH-INTERVAL:P3D
CALSCALE:GREGORIAN
BEGIN:VEVENT
DTSTART:20230610T230000Z
DTEND:20230611T020000Z
X-MICROSOFT-CDO-ALLDAYEVENT:FALSE
SUMMARY:Dylan Earl Live at Strauss Theatre
DESCRIPTION:Originally from Louisiana but "naturalized by the Natural State" as a teenager\, Dylan Earl (or "Dearl" as he's come to be known) has been active in the Arkansas underground country scene for over a decade\, first as a founding member of the alt-country band Swampbird and then as a solo performer and songwriter. This second installment of the summer singer-songwriter series is not one to miss!
X-ALT-DESC;FMTTYPE=text/html:Originally from Louisiana but &ldquo\;naturalized by the Natural State&rdquo\; as a teenager\, Dylan Earl (or &ldquo\;Dearl&rdquo\; as he&rsquo\;s come to be known) has been active in the Arkansas underground country scene for over a decade\, first as a founding member of the alt-country band Swampbird and then as a solo performer and songwriter. This second installment of the summer singer-songwriter series is not one to miss!
LOCATION:Strauss Theatre Center 1300 Lamy Ln Monroe\, LA
UID:e.1999.708
SEQUENCE:3
DTSTAMP:20260425T224345Z
URL:https://members.monroe.org/events/details/dylan-earl-live-at-strauss-theatre-708
END:VEVENT

END:VCALENDAR
