BEGIN:VCALENDAR
VERSION:2.0
PRODID:-//ChamberMaster//Event Calendar 2.0//EN
METHOD:PUBLISH
X-PUBLISHED-TTL:P3D
REFRESH-INTERVAL:P3D
CALSCALE:GREGORIAN
BEGIN:VEVENT
DTSTART:20230817T180000Z
DTEND:20230817T190000Z
X-MICROSOFT-CDO-ALLDAYEVENT:FALSE
SUMMARY:DIY Joyful Creations Ribbon Cutting
DESCRIPTION:We are celebrating and welcoming another new business to the city of Monroe with a ribbon cutting!  DIY Joyful Creations is a "Do It Yourself" arts & crafts studio! Learn to make wreaths\, jewelry\, splatter paint\, home decor\, and much more!
X-ALT-DESC;FMTTYPE=text/html:We are celebrating and welcoming another new business to the city of Monroe with a ribbon cutting!&nbsp\; DIY Joyful Creations is a &quot\;Do It Yourself&quot\;<span style="font-size:14px\;"><span style="color: rgb(5\, 5\, 5)\; font-family: &quot\;Segoe UI Historic&quot\;\, &quot\;Segoe UI&quot\;\, Helvetica\, Arial\, sans-serif\; text-align: center\; background-color: rgb(255\, 255\, 255)\;">&nbsp\;arts &amp\; crafts studio! Learn to make wreaths\, jewelry\, splatter paint\, home decor\, and much more!</span></span>
LOCATION:2221 Louisville Avenue in Monroe\, in the Twin City Shopping Center\, just down from Picadilly.
UID:e.1999.765
SEQUENCE:3
DTSTAMP:20260425T192610Z
URL:https://members.monroe.org/events/details/diy-joyful-creations-ribbon-cutting-765
END:VEVENT

END:VCALENDAR
