BEGIN:VCALENDAR
VERSION:2.0
PRODID:-//ChamberMaster//Event Calendar 2.0//EN
METHOD:PUBLISH
X-PUBLISHED-TTL:P3D
REFRESH-INTERVAL:P3D
CALSCALE:GREGORIAN
BEGIN:VEVENT
DTSTART:20251210T200000Z
DTEND:20251210T210000Z
X-MICROSOFT-CDO-ALLDAYEVENT:FALSE
SUMMARY:Denny's of Monroe Ribbon Cutting
DESCRIPTION:Please join us for a ribbon cutting celebration for Denny's of Monroe.\n\nWe are excited to help welcome this new location in Monroe!
X-ALT-DESC;FMTTYPE=text/html:<span style="font-size:14px\;"><span style="font-family:tahoma\;"><strong>Please join us for a ribbon cutting celebration for Denny&#39\;s of Monroe.<br />\nWe are excited to help welcome this new location in Monroe!</strong></span></span>
LOCATION:5000 Forsythe Bypass Monroe\, LA
UID:e.1999.1920
SEQUENCE:3
DTSTAMP:20260423T172919Z
URL:https://members.monroe.org/events/details/denny-s-of-monroe-ribbon-cutting-1920
END:VEVENT

END:VCALENDAR
