BEGIN:VCALENDAR
VERSION:2.0
PRODID:-//ChamberMaster//Event Calendar 2.0//EN
METHOD:PUBLISH
X-PUBLISHED-TTL:P3D
REFRESH-INTERVAL:P3D
CALSCALE:GREGORIAN
BEGIN:VEVENT
DTSTART:20240928T130000Z
DTEND:20240928T220000Z
X-MICROSOFT-CDO-ALLDAYEVENT:FALSE
SUMMARY:Complete Tax and Training Software Tax Tour 2024
DESCRIPTION:?? Ready to take control of your financial future? Learn how to earn 5\, 6\, or even 7 figures in just 3 months! Join our tax training this weekend September 28\, 2024 in Monroe\, LA\, and become a skilled ERO or tax preparer. Understand tax laws\, benefit from year-round mentorship and support\, and develop strategies to achieve your financial goals! Reserve your spot today with just 10% down! Text #RegisterMonroe to 318-538-4761 to register! ??
X-ALT-DESC;FMTTYPE=text/html:?? Ready to take control of your financial future? Learn how to earn 5\, 6\, or even 7 figures in just 3 months! Join our tax training this weekend September 28\, 2024 in Monroe\, LA\, and become a skilled ERO or tax preparer. Understand tax laws\, benefit from year-round mentorship and support\, and develop strategies to achieve your financial goals! Reserve your spot today with just 10% down! Text #RegisterMonroe to 318-538-4761 to register! ??
LOCATION:TBA
UID:e.1999.1159
SEQUENCE:3
DTSTAMP:20260424T193602Z
URL:https://members.monroe.org/events/details/complete-tax-and-training-software-tax-tour-2024-1159
END:VEVENT

END:VCALENDAR
