BEGIN:VCALENDAR
VERSION:2.0
PRODID:-//ChamberMaster//Event Calendar 2.0//EN
METHOD:PUBLISH
X-PUBLISHED-TTL:P3D
REFRESH-INTERVAL:P3D
CALSCALE:GREGORIAN
BEGIN:VEVENT
DTSTART:20231117T160000Z
DTEND:20231117T170000Z
X-MICROSOFT-CDO-ALLDAYEVENT:FALSE
SUMMARY:Citizens Progressive Bank Columbia Ribbon Cutting
DESCRIPTION:Citizens Progressive Bank in Columbia is celebrating their beautiful new building with a ribbon cutting\, and the Monroe Chamber of commerce is there to help!
X-ALT-DESC;FMTTYPE=text/html:Citizens Progressive Bank in Columbia is celebrating their beautiful new building with a ribbon cutting\, and the Monroe Chamber of commerce is there to help!
LOCATION:7712 Highway 165\, Columbia\, LA 71418
UID:e.1999.866
SEQUENCE:3
DTSTAMP:20260425T174936Z
URL:https://members.monroe.org/events/details/citizens-progressive-bank-columbia-ribbon-cutting-866
END:VEVENT

END:VCALENDAR
