BEGIN:VCALENDAR
VERSION:2.0
PRODID:-//ChamberMaster//Event Calendar 2.0//EN
METHOD:PUBLISH
X-PUBLISHED-TTL:P3D
REFRESH-INTERVAL:P3D
CALSCALE:GREGORIAN
BEGIN:VEVENT
DTSTART:20240925T133000Z
DTEND:20240925T143000Z
X-MICROSOFT-CDO-ALLDAYEVENT:FALSE
SUMMARY:Business Leader Breakfast with Insurance Commissioner Tim Temple
DESCRIPTION:Joint the Monroe Chamber of Commerce and the West Monroe Chamber of Commerce for a special breakfast with guest speaker Tim Temple\, State Insurance Commissioner.
X-ALT-DESC;FMTTYPE=text/html:Joint the Monroe Chamber of Commerce and the West Monroe Chamber of Commerce&nbsp\;for a special breakfast with guest speaker Tim Temple\, State Insurance Commissioner.&nbsp\;
LOCATION:West Monroe Convention Center
UID:e.1999.1151
SEQUENCE:3
DTSTAMP:20260424T193740Z
URL:https://members.monroe.org/events/details/business-leader-breakfast-with-insurance-commissioner-tim-temple-1151
END:VEVENT

END:VCALENDAR
