BEGIN:VCALENDAR
VERSION:2.0
PRODID:-//ChamberMaster//Event Calendar 2.0//EN
METHOD:PUBLISH
X-PUBLISHED-TTL:P3D
REFRESH-INTERVAL:P3D
CALSCALE:GREGORIAN
BEGIN:VEVENT
DTSTART:20240926T190000Z
DTEND:20240926T200000Z
X-MICROSOFT-CDO-ALLDAYEVENT:FALSE
SUMMARY:Building Futures West Monroe Groundbreaking Event
DESCRIPTION:Building Futures Pediatric Therapy is still growing!  Join the Monroe Chamber of Commerce and others as we break the ground on a new clinic facility in West Monroe!
X-ALT-DESC;FMTTYPE=text/html:Building Futures Pediatric Therapy is still growing!&nbsp\; Join the Monroe Chamber of Commerce and others as we break the ground on a new clinic facility in West Monroe!
LOCATION:4103 Cypress Street\, West Monroe\, LA 71291
UID:e.1999.1160
SEQUENCE:3
DTSTAMP:20260424T193433Z
URL:https://members.monroe.org/events/details/building-futures-west-monroe-groundbreaking-event-1160
END:VEVENT

END:VCALENDAR
