BEGIN:VCALENDAR
VERSION:2.0
PRODID:-//ChamberMaster//Event Calendar 2.0//EN
METHOD:PUBLISH
X-PUBLISHED-TTL:P3D
REFRESH-INTERVAL:P3D
CALSCALE:GREGORIAN
BEGIN:VEVENT
DTSTART:20230524T150000Z
DTEND:20230524T153000Z
X-MICROSOFT-CDO-ALLDAYEVENT:FALSE
SUMMARY:Bayou Worship Space Ribbon Cutting at First Methodist Church
DESCRIPTION:Bayou Worship Space Ribbon Cutting at First Methodist Church
X-ALT-DESC;FMTTYPE=text/html:<span style="color:#002060\;"><span style="font-family:book antiqua\,serif\;"><span style="font-size:20.0pt\;">Bayou Worship Space Ribbon Cutting at First Methodist Church&nbsp\;</span></span></span>
LOCATION:3900 Loop Road\, Monroe
UID:e.1999.720
SEQUENCE:3
DTSTAMP:20260426T004428Z
URL:https://members.monroe.org/events/details/bayou-worship-space-ribbon-cutting-at-first-methodist-church-720
END:VEVENT

END:VCALENDAR
