BEGIN:VCALENDAR
VERSION:2.0
PRODID:-//ChamberMaster//Event Calendar 2.0//EN
METHOD:PUBLISH
X-PUBLISHED-TTL:P3D
REFRESH-INTERVAL:P3D
CALSCALE:GREGORIAN
BEGIN:VEVENT
DTSTART:20240905T190000Z
DTEND:20240905T200000Z
X-MICROSOFT-CDO-ALLDAYEVENT:FALSE
SUMMARY:Bayou Powersports Ribbon Cutting and Open House
DESCRIPTION:Join the Monroe Chamber of Commerce as we cut the ribbon and celebrate Bayou Powersports on Frontage Road in Monroe!  an Open House will follow the ribbon cutting.
X-ALT-DESC;FMTTYPE=text/html:Join the Monroe Chamber of Commerce as we cut the ribbon and celebrate Bayou Powersports on Frontage Road in Monroe!&nbsp\; an Open House will follow the ribbon cutting.
LOCATION:6100 Frontage Road in Monroe
UID:e.1999.1127
SEQUENCE:3
DTSTAMP:20260424T193602Z
URL:https://members.monroe.org/events/details/bayou-powersports-ribbon-cutting-and-open-house-1127
END:VEVENT

END:VCALENDAR
