BEGIN:VCALENDAR
VERSION:2.0
PRODID:-//ChamberMaster//Event Calendar 2.0//EN
METHOD:PUBLISH
X-PUBLISHED-TTL:P3D
REFRESH-INTERVAL:P3D
CALSCALE:GREGORIAN
BEGIN:VEVENT
DTSTART:20240131T160000Z
DTEND:20240131T170000Z
X-MICROSOFT-CDO-ALLDAYEVENT:FALSE
SUMMARY:ARCO new location Ribbon Cutting and Open House
DESCRIPTION:It's a Ribbon Cutting and Open House for ARCO's new location in Monroe!
X-ALT-DESC;FMTTYPE=text/html:It&#39\;s a Ribbon Cutting and Open House for ARCO&#39\;s new location in Monroe!
LOCATION:3101 Mercedes Drive in Monroe
UID:e.1999.815
SEQUENCE:3
DTSTAMP:20260425T110113Z
URL:https://members.monroe.org/events/details/arco-new-location-ribbon-cutting-and-open-house-815
END:VEVENT

END:VCALENDAR
