BEGIN:VCALENDAR
VERSION:2.0
PRODID:-//ChamberMaster//Event Calendar 2.0//EN
METHOD:PUBLISH
X-PUBLISHED-TTL:P3D
REFRESH-INTERVAL:P3D
CALSCALE:GREGORIAN
BEGIN:VEVENT
DTSTART:20231107T174500Z
DTEND:20231107T190000Z
X-MICROSOFT-CDO-ALLDAYEVENT:FALSE
SUMMARY:Ambassador November Luncheon
DESCRIPTION:We will meet at Monroe City Hall in the City Council chambers for this meeting.  Please arrive a few minutes early to sign in and to go through the metal detector.\n\n \n\nWe will be updating everyone on our Christmas Project for The Center for Children\, discussing the next project\, lunch\, Ambassador of the month awards and more.\n\n \n\nPlease register online at this link: \n\n \n\nThis may be our last meeting in 2023\, I really hope to see you there!
X-ALT-DESC;FMTTYPE=text/html:We will meet at Monroe City Hall in the City Council chambers for this meeting.&nbsp\; Please arrive a few minutes early to sign in and to go through the metal detector.<br />\n&nbsp\;<br />\nWe will be updating everyone on our Christmas Project for The Center for Children\, discussing the next project\, lunch\, Ambassador of the month awards and more.<br />\n&nbsp\;<br />\nPlease register online at this link:&nbsp\;<br />\n&nbsp\;<br />\nThis may be our last meeting in 2023\, I really hope to see you there!
LOCATION:
UID:e.1999.852
SEQUENCE:3
DTSTAMP:20260425T141920Z
URL:https://members.monroe.org/events/details/ambassador-november-luncheon-852
END:VEVENT

END:VCALENDAR
