BEGIN:VCALENDAR
VERSION:2.0
PRODID:-//ChamberMaster//Event Calendar 2.0//EN
METHOD:PUBLISH
X-PUBLISHED-TTL:P3D
REFRESH-INTERVAL:P3D
CALSCALE:GREGORIAN
BEGIN:VEVENT
DTSTART:20240905T164500Z
DTEND:20240905T180000Z
X-MICROSOFT-CDO-ALLDAYEVENT:FALSE
SUMMARY:Ambassador meeting at Monroe Regional Airport
DESCRIPTION:Our monthly Ambassador meeting takes us to MLU as we hear from Airport Director Charles Butcher and his staff. In years past\, Monroe regional Airport used to have "Ambassadors" to greet incoming flights to welcome them to Monroe and thank them for flying Monroe.  When the Monroe Chamber of Commerce was dedicating the new 20x10 foot mural at the airport\, a Delta flight landed and the passengers had to walk through our dedication.  To ease the awkwardness of this\, our Ambassadors and attendees started cheering for the passengers--every one of them. The appreciation and smiles went a long way to making everyone realize we need to do this regularly. Join us for this meeting and help us plan how to bring this tradition back! Also\, we will be served lunch from the new Airport restaurant\, so please register to let us know you will be attending.
X-ALT-DESC;FMTTYPE=text/html:Our monthly Ambassador meeting takes us to MLU as we hear from Airport Director Charles Butcher and his staff. In years past\, Monroe regional Airport used to have &quot\;Ambassadors&quot\; to greet incoming flights to welcome them to Monroe and thank them for flying Monroe.&nbsp\; When the Monroe Chamber of Commerce was dedicating the new 20x10 foot mural at the airport\, a Delta flight landed and the passengers had to walk through our dedication.&nbsp\; To ease the awkwardness of this\, our Ambassadors and attendees started cheering for the passengers--every one of them. The appreciation and smiles went a long way to making everyone realize we need to do this regularly. Join us for this meeting and help us plan how to bring this tradition back! Also\, we will be served lunch from the new Airport restaurant\, so please register to let us know you will be attending.
LOCATION:5400 Operations Road\, Monroe\, LA 71203
UID:e.1999.1098
SEQUENCE:3
DTSTAMP:20260424T194054Z
URL:https://members.monroe.org/events/details/ambassador-meeting-at-monroe-regional-airport-1098
END:VEVENT

END:VCALENDAR
